BEGIN:VCALENDAR
VERSION:2.0
PRODID:-//MidAtlantic Rubber and Plastics Group - ECPv6.15.16.1//NONSGML v1.0//EN
CALSCALE:GREGORIAN
METHOD:PUBLISH
X-WR-CALNAME:MidAtlantic Rubber and Plastics Group
X-ORIGINAL-URL:https://marpg.org
X-WR-CALDESC:Events for MidAtlantic Rubber and Plastics Group
REFRESH-INTERVAL;VALUE=DURATION:PT1H
X-Robots-Tag:noindex
X-PUBLISHED-TTL:PT1H
BEGIN:VTIMEZONE
TZID:America/New_York
BEGIN:DAYLIGHT
TZOFFSETFROM:-0500
TZOFFSETTO:-0400
TZNAME:EDT
DTSTART:20230312T070000
END:DAYLIGHT
BEGIN:STANDARD
TZOFFSETFROM:-0400
TZOFFSETTO:-0500
TZNAME:EST
DTSTART:20231105T060000
END:STANDARD
BEGIN:DAYLIGHT
TZOFFSETFROM:-0500
TZOFFSETTO:-0400
TZNAME:EDT
DTSTART:20240310T070000
END:DAYLIGHT
BEGIN:STANDARD
TZOFFSETFROM:-0400
TZOFFSETTO:-0500
TZNAME:EST
DTSTART:20241103T060000
END:STANDARD
BEGIN:DAYLIGHT
TZOFFSETFROM:-0500
TZOFFSETTO:-0400
TZNAME:EDT
DTSTART:20250309T070000
END:DAYLIGHT
BEGIN:STANDARD
TZOFFSETFROM:-0400
TZOFFSETTO:-0500
TZNAME:EST
DTSTART:20251102T060000
END:STANDARD
END:VTIMEZONE
BEGIN:VEVENT
DTSTART;TZID=America/New_York:20241120T083000
DTEND;TZID=America/New_York:20241120T170000
DTSTAMP:20260424T151519
CREATED:20241003T132614Z
LAST-MODIFIED:20241003T132614Z
UID:2794-1732091400-1732122000@marpg.org
SUMMARY:2024 MARPG Educational Symposium
DESCRIPTION:Please join MARPG in November for a day of talks and networking. Guests will be treated to a light breakfast\, refreshments\, and a catered lunch. We will have several speakers and plenty of time for networking. Register now! \nAccommodations: While MARPG does not have a room block\, attendees from out of town can stay at “The Inn” details can be found here https://theinnatvillanova.com/hotel-information/accommodations\n  \nRegister Now\n  \nNeed help registering?\n\n 
URL:https://marpg.org/event/2024-marpg-educational-symposium/
LOCATION:The Inn at Villanova University\, 601 County Line Rd\, Radnor\, 19087
CATEGORIES:Educational Symposium
ORGANIZER;CN="MidAtlantic Rubber & Plastics Group":MAILTO:marpg.org@gmail.com
END:VEVENT
END:VCALENDAR