BEGIN:VCALENDAR
VERSION:2.0
PRODID:-//MidAtlantic Rubber and Plastics Group - ECPv6.15.16.1//NONSGML v1.0//EN
CALSCALE:GREGORIAN
METHOD:PUBLISH
X-WR-CALNAME:MidAtlantic Rubber and Plastics Group
X-ORIGINAL-URL:https://marpg.org
X-WR-CALDESC:Events for MidAtlantic Rubber and Plastics Group
REFRESH-INTERVAL;VALUE=DURATION:PT1H
X-Robots-Tag:noindex
X-PUBLISHED-TTL:PT1H
BEGIN:VTIMEZONE
TZID:America/New_York
BEGIN:DAYLIGHT
TZOFFSETFROM:-0500
TZOFFSETTO:-0400
TZNAME:EDT
DTSTART:20230312T070000
END:DAYLIGHT
BEGIN:STANDARD
TZOFFSETFROM:-0400
TZOFFSETTO:-0500
TZNAME:EST
DTSTART:20231105T060000
END:STANDARD
BEGIN:DAYLIGHT
TZOFFSETFROM:-0500
TZOFFSETTO:-0400
TZNAME:EDT
DTSTART:20240310T070000
END:DAYLIGHT
BEGIN:STANDARD
TZOFFSETFROM:-0400
TZOFFSETTO:-0500
TZNAME:EST
DTSTART:20241103T060000
END:STANDARD
BEGIN:DAYLIGHT
TZOFFSETFROM:-0500
TZOFFSETTO:-0400
TZNAME:EDT
DTSTART:20250309T070000
END:DAYLIGHT
BEGIN:STANDARD
TZOFFSETFROM:-0400
TZOFFSETTO:-0500
TZNAME:EST
DTSTART:20251102T060000
END:STANDARD
END:VTIMEZONE
BEGIN:VEVENT
DTSTART;TZID=America/New_York:20240530T130000
DTEND;TZID=America/New_York:20240530T170000
DTSTAMP:20260424T224124
CREATED:20240311T145401Z
LAST-MODIFIED:20240319T154751Z
UID:2729-1717074000-1717088400@marpg.org
SUMMARY:MARPG Spring Technical Meeting & Tour
DESCRIPTION:Please join MARPG on May 30th @ 1:00p for talks\, networking\, and a tour of Air Products Technology Center.  Registration includes light refreshments and snacks.  We will have several speakers and plenty of time for networking. We look forward to having you.  Register now! $20 Members / $30 Non-Members \nMARPG Spring Technical Meeting & Tour Agenda\, May 30\, 2024\nThe Tentative Program Schedule is: \n1:00 PM – Welcome/Introduction MARPG Chair\n\n1:15 PM – Industrial Gas Technologies & Solutions for Decarbonization in Rubber & Plastics Industry ~Mark D’Agostini (Manager and Global leader on Combustion Technology Development at Air Products) & Timothy Lebrecht (Industry Manager for Chemical and Clean Energy Processes at Air Products)\n\n2:00 PM – Advanced Materials for Energy ~Dr. Mehdi Emad (Technical Development Americas Team Leader at Solvay)\n\n2:30 PM – Carbonized Soybean Hull as a Replacement for Carbon Black in Plastics Applications ~Mike Schmitz (Compound Development Chemist at Akron Rubber Development Laboratory\, Inc.)\n\n3:00 PM – Networking Break / Light Refreshments\n\n3:30 PM – Cryogenics and Combustion Lab Tours ~Air Products Technology Center\n\n4:30 PM – Ending Remarks/ Networking\n\n\nRegister Now\n  \nNeed help registering?\n\n 
URL:https://marpg.org/event/marpg-spring-technical-meeting-tour/
LOCATION:Air Products Global Headquarters\, 1940 Air Products Blvd\, Wescosville\, PA\, 18106\, United States
CATEGORIES:Educational Symposium
ORGANIZER;CN="MidAtlantic Rubber & Plastics Group":MAILTO:marpg.org@gmail.com
END:VEVENT
END:VCALENDAR