BEGIN:VCALENDAR
VERSION:2.0
PRODID:-//MidAtlantic Rubber and Plastics Group - ECPv6.15.16.1//NONSGML v1.0//EN
CALSCALE:GREGORIAN
METHOD:PUBLISH
X-WR-CALNAME:MidAtlantic Rubber and Plastics Group
X-ORIGINAL-URL:https://marpg.org
X-WR-CALDESC:Events for MidAtlantic Rubber and Plastics Group
REFRESH-INTERVAL;VALUE=DURATION:PT1H
X-Robots-Tag:noindex
X-PUBLISHED-TTL:PT1H
BEGIN:VTIMEZONE
TZID:America/New_York
BEGIN:DAYLIGHT
TZOFFSETFROM:-0500
TZOFFSETTO:-0400
TZNAME:EDT
DTSTART:20220313T070000
END:DAYLIGHT
BEGIN:STANDARD
TZOFFSETFROM:-0400
TZOFFSETTO:-0500
TZNAME:EST
DTSTART:20221106T060000
END:STANDARD
BEGIN:DAYLIGHT
TZOFFSETFROM:-0500
TZOFFSETTO:-0400
TZNAME:EDT
DTSTART:20230312T070000
END:DAYLIGHT
BEGIN:STANDARD
TZOFFSETFROM:-0400
TZOFFSETTO:-0500
TZNAME:EST
DTSTART:20231105T060000
END:STANDARD
BEGIN:DAYLIGHT
TZOFFSETFROM:-0500
TZOFFSETTO:-0400
TZNAME:EDT
DTSTART:20240310T070000
END:DAYLIGHT
BEGIN:STANDARD
TZOFFSETFROM:-0400
TZOFFSETTO:-0500
TZNAME:EST
DTSTART:20241103T060000
END:STANDARD
END:VTIMEZONE
BEGIN:VEVENT
DTSTART;TZID=America/New_York:20231116T083000
DTEND;TZID=America/New_York:20231116T153000
DTSTAMP:20260425T062812
CREATED:20231016T142908Z
LAST-MODIFIED:20231103T142448Z
UID:2653-1700123400-1700148600@marpg.org
SUMMARY:MARPG Educational Symposium 2023
DESCRIPTION:Please join MARPG in November for a day of technical talks and networking. Registration price includes light breakfast and lunch. We will have several speakers and plenty of time for networking. Agenda will follow shortly. Register now! \nAccommodations: While MARPG does not have a room block\, attendees from out of town can stay at “The Inn” details can be found here https://theinnatvillanova.com/hotel-information/accommodations \nMARPG Education Symposium Agenda\, November 16\, 2023\n8:30 – 9:00 AM\nBreakfast\n\n9:00 – 9:15 AM\nOpening remarks – Liz Opsitnick\, MARPG Chairperson\n\n9:15 – 10:00 AM\nMike Himes & Gaurab Samanta\, Air Products – Cryogenics & Industrial Gas Applications in Rubber and Plastics Industry\n\n10:00 – 10:30 AM\nPhillip Bischot\, OCSiAL LLC – Graphene Nanotubes for Conductive & Reinforced Rubber Compounds with Unmatched Low Dosages\n\n10:30 – 10:40 AM\nBreak\n\n10:40 – 11:10 AM\nLaura Mohanty\, Shimadzu – Mechanical Testing (AGX-X) and Thermal Analysis (DSC & DTG) of Rubber\n\n11:10 – 11:35 AM\nElevator pitches and Supplier Overviews\n\n11:35 AM – 1:05 PM\nLunch & Networking\n\n1:05 PM – 1:50 PM\nSeth Glasgow\, ARDL — Vibration Test Methods\n\n1:50 – 2:20 PM\nSteve Henning\, Resin Solutions – Structure-Property Relationships of Resins in Tire Applications\n\n2:20 – 2:35 PM\nClosing Remarks\n\n  \nRegister Now\n  \nNeed help registering?\n\n 
URL:https://marpg.org/event/marpg-educational-symposium-2023/
LOCATION:The Inn at Villanova University\, 601 County Line Rd\, Radnor\, 19087
CATEGORIES:Educational Symposium
ORGANIZER;CN="MidAtlantic Rubber & Plastics Group":MAILTO:marpg.org@gmail.com
END:VEVENT
END:VCALENDAR