BEGIN:VCALENDAR
VERSION:2.0
PRODID:-//MidAtlantic Rubber and Plastics Group - ECPv6.15.16.1//NONSGML v1.0//EN
CALSCALE:GREGORIAN
METHOD:PUBLISH
X-ORIGINAL-URL:https://marpg.org
X-WR-CALDESC:Events for MidAtlantic Rubber and Plastics Group
REFRESH-INTERVAL;VALUE=DURATION:PT1H
X-Robots-Tag:noindex
X-PUBLISHED-TTL:PT1H
BEGIN:VTIMEZONE
TZID:America/New_York
BEGIN:DAYLIGHT
TZOFFSETFROM:-0500
TZOFFSETTO:-0400
TZNAME:EDT
DTSTART:20220313T070000
END:DAYLIGHT
BEGIN:STANDARD
TZOFFSETFROM:-0400
TZOFFSETTO:-0500
TZNAME:EST
DTSTART:20221106T060000
END:STANDARD
BEGIN:DAYLIGHT
TZOFFSETFROM:-0500
TZOFFSETTO:-0400
TZNAME:EDT
DTSTART:20230312T070000
END:DAYLIGHT
BEGIN:STANDARD
TZOFFSETFROM:-0400
TZOFFSETTO:-0500
TZNAME:EST
DTSTART:20231105T060000
END:STANDARD
BEGIN:DAYLIGHT
TZOFFSETFROM:-0500
TZOFFSETTO:-0400
TZNAME:EDT
DTSTART:20240310T070000
END:DAYLIGHT
BEGIN:STANDARD
TZOFFSETFROM:-0400
TZOFFSETTO:-0500
TZNAME:EST
DTSTART:20241103T060000
END:STANDARD
END:VTIMEZONE
BEGIN:VEVENT
DTSTART;TZID=America/New_York:20230727T120000
DTEND;TZID=America/New_York:20230727T130000
DTSTAMP:20260425T113853
CREATED:20230601T224412Z
LAST-MODIFIED:20230725T183218Z
UID:2547-1690459200-1690462800@marpg.org
SUMMARY:MARPG Summer Lunch & Learn Series
DESCRIPTION:We are excited to announce our Summer Lunch & Learn Series! We will be hosting three online Lunch & Learn talks throughout the summer\, during the fourth Thursday of June\, July\, and August. The speaker schedule is outlined below:\n\nJune 22\, 12-1 PM\nSteve Chase (Lianda) – “PFOA\, PFAS\, PFCA\, FKM: So Many P’s and F’s – What Does it All Mean for the Rubber Industry”\n\nJuly 27\, 12-1 PM\nChristoph Maczkiewitz (Elkem) – “Sidistar® – A Different Kind of Silica”\n\nAugust 24\, 12-1 PM\nMichael Schmitz (ARDL) – “Sustainability of Rubber and Plastics”\n\nTime:  All talks will be held from 12 – 1 PM EST\n\nCost:    Members: Free (please consider a $10 scholarship donation)\n            Non-Members: $20 scholarship donation*\n\n*Non-members can also join MARPG for $20 and attend the full series at no additional cost.\nRSVP
URL:https://marpg.org/event/marpg-summer-lunch-learn-series-2/
LOCATION:PA
CATEGORIES:Lunch & Learn
ORGANIZER;CN="MidAtlantic Rubber & Plastics Group":MAILTO:marpg.org@gmail.com
END:VEVENT
END:VCALENDAR