BEGIN:VCALENDAR
VERSION:2.0
PRODID:-//MidAtlantic Rubber and Plastics Group - ECPv6.15.16.1//NONSGML v1.0//EN
CALSCALE:GREGORIAN
METHOD:PUBLISH
X-ORIGINAL-URL:https://marpg.org
X-WR-CALDESC:Events for MidAtlantic Rubber and Plastics Group
REFRESH-INTERVAL;VALUE=DURATION:PT1H
X-Robots-Tag:noindex
X-PUBLISHED-TTL:PT1H
BEGIN:VTIMEZONE
TZID:America/New_York
BEGIN:DAYLIGHT
TZOFFSETFROM:-0500
TZOFFSETTO:-0400
TZNAME:EDT
DTSTART:20250309T070000
END:DAYLIGHT
BEGIN:STANDARD
TZOFFSETFROM:-0400
TZOFFSETTO:-0500
TZNAME:EST
DTSTART:20251102T060000
END:STANDARD
BEGIN:DAYLIGHT
TZOFFSETFROM:-0500
TZOFFSETTO:-0400
TZNAME:EDT
DTSTART:20260308T070000
END:DAYLIGHT
BEGIN:STANDARD
TZOFFSETFROM:-0400
TZOFFSETTO:-0500
TZNAME:EST
DTSTART:20261101T060000
END:STANDARD
BEGIN:DAYLIGHT
TZOFFSETFROM:-0500
TZOFFSETTO:-0400
TZNAME:EDT
DTSTART:20270314T070000
END:DAYLIGHT
BEGIN:STANDARD
TZOFFSETFROM:-0400
TZOFFSETTO:-0500
TZNAME:EST
DTSTART:20271107T060000
END:STANDARD
END:VTIMEZONE
BEGIN:VEVENT
DTSTART;TZID=America/New_York:20261021T083000
DTEND;TZID=America/New_York:20261021T170000
DTSTAMP:20260423T140910
CREATED:20260122T191847Z
LAST-MODIFIED:20260122T192008Z
UID:2892-1792571400-1792602000@marpg.org
SUMMARY:2026 MARPG Educational Symposium
DESCRIPTION:Special Joint Educational Symposium Event\n50th Anniversary of Lehigh University Polymer Science & Engineering Department and Mid Atlantic Rubber and Plastics Group (MARPG) 2026 Educational Symposium\nPlease mark your calendars for our 2026 Fall Technical Symposium October 21 at Lehigh University’s Lacocca Hall which will include a student poster session. \nRegister Now:  https://lp.constantcontactpages.com/ev/reg/yxdrqp6 \nSAVE THE DATE: Tuesday\, October 21\, 2026 | 8:30 am – 5:00 pm\nDoors Open at 8:30 am. Presentations begin at 9:00 am \nWhere: Lehigh University\, Iacocca Hall\, 111 Research Dr\, Bethlehem\, PA\, 18015 \nCost: (in person) $80.00 per person MARPG Members\, non-Members $85.00 \nCost: (Remote-connection) $10.00 per person ACS/Rubber Division/MARPG members\, non-Members $15.00 per person. \nAgenda\nSpecial Event: 50th Anniversary of Lehigh University Polymer Science & Engineering Department and 2026 Mid Atlantic Rubber and Plastics Group (MARPG) Joint Symposium. \nWhen:   Tuesday\, October 21\, 2026 | 8:30 am – 5:00 pm \n   Presentations begin at 9:00 am. Doors open at 8:30 am. \nWhere: Lehigh University\, Iacocca Hall\, 111 Research Dr\, Bethlehem\, PA 18015 \n8:30 – 9:00 AM | Arrival\, Light Breakfast\, Registration\, and Networking \n\nCheck-in and casual networking over coffee and catered light breakfast/snack and coffee\n\n9:00 – 9:30 AM | Opening Remarks \n\nWelcome by the Lehigh President Joseph Helble\nRaymond Pearson – Brief history and importance of the program’s 50-year milestone\nIntroduction to MARPG – Joe Martin Chairperson\, Evan Silo Vice-Chairperson\n\n9:30 – 12:00 PM | Symposium – Morning Sessions \n\n9:30 – 10:10 AM (PSE Keynote morning session): Mohamed El-Aasser\, Lehigh University\, Professor Emeritus of Chemical Engineering Department of Chemical and Biomolecular Engineering – “Reflections on the history\, key milestones\, and future directions of polymer science and engineering”\n10:10 – 10:50 AM: Zach Zacharia\, Lehigh University\, Director of Center for Supply Chain Research at College of Business – “Follow The Molecule – How Today’s Supply Chain is Impacting the Elastomer and Plastics Industry”\n10:50 – 11:30 MA: Pat Carroll\, Greene Tweed – “Analytical Tools for Troubleshooting Elastomer Issues”\n11:30 – 11:45 AM: Recognition of the Contributions of Emeritus Members to MARPG\n11:45 – 12:00: “MARPG Corporate Member Spotlights” This firm 2-3 minute single slide presentations are open to all current MARPG Corporate member to highlight their company and products.  \n\n12:00 – 1:00 PM | Lunch & Networking – Catered lunch  \n\n12:40 PM – Provost Nathan Urban: afternoon session opening remarks followed by PSE alumni and current students highlights video\n\n1:00 – 3:30 PM | Symposium – Afternoon Sessions \n\n1:00 – 1:40 PM (PSE Keynote afternoon session): John Rogers\, Northwestern University\,  Louis Simpson and Kimberly Querrey Professor of Materials Science and Engineering\, Biomedical Engineering and Neurological Surgery (and by courtesy Electrical and Computer Engineering\, Mechanical Engineering\, Chemistry and Dermatology) and Director\, Querrey Simpson Institute for Bioelectronics – “Polymers for Skin-Integrated Medical Sensors”\n1:40 – 2:20 PM: Jason Poulton\, ARDL – “Failure Analysis”\n2:20 – 3:00 PM: Christian Sims\, Syensqo\, Customer Technical Development Engineer Transportation – North America: “Redefining Possibilities: The Strategic Role of Ultrapolymers in the Engineering Materials Landscape”\n3:00 – 3:40 PM: Bridgette Budhlall\, UMass Lowell\, Chair of the Plastics Engineering Department: “How an interdisciplinary degree in polymer science & engineering influenced my career in industry and academia: an introspective 25 years later”\n\n3:40 – 3:45 PM – closing remarks \nAll attendees are welcome to celebrate: \n4:00 – 5:00 PM | Retirement Celebration & Farewell Reception for Professor Raymond Pearson \n\nSpeeches (PSE alum)/toasts for the retiree (colleagues\, students\, friends)\nLight refreshments\, photos\, mingling\n\nNeed help registering?\nNo paypal account is needed\, just look for the BLACK credit card button on the last page of registration. \n\n 
URL:https://marpg.org/event/2026-marpg-educational-symposium/
LOCATION:Lehigh University – Iacocca Hall\, 111 Research Dr\, Bethlehem\, PA\, 18015\, United States
CATEGORIES:Educational Symposium
ORGANIZER;CN="MidAtlantic Rubber & Plastics Group":MAILTO:marpg.org@gmail.com
END:VEVENT
END:VCALENDAR