BEGIN:VCALENDAR
VERSION:2.0
PRODID:-//MidAtlantic Rubber and Plastics Group - ECPv6.15.16.1//NONSGML v1.0//EN
CALSCALE:GREGORIAN
METHOD:PUBLISH
X-WR-CALNAME:MidAtlantic Rubber and Plastics Group
X-ORIGINAL-URL:https://marpg.org
X-WR-CALDESC:Events for MidAtlantic Rubber and Plastics Group
REFRESH-INTERVAL;VALUE=DURATION:PT1H
X-Robots-Tag:noindex
X-PUBLISHED-TTL:PT1H
BEGIN:VTIMEZONE
TZID:America/New_York
BEGIN:DAYLIGHT
TZOFFSETFROM:-0500
TZOFFSETTO:-0400
TZNAME:EDT
DTSTART:20210314T070000
END:DAYLIGHT
BEGIN:STANDARD
TZOFFSETFROM:-0400
TZOFFSETTO:-0500
TZNAME:EST
DTSTART:20211107T060000
END:STANDARD
BEGIN:DAYLIGHT
TZOFFSETFROM:-0500
TZOFFSETTO:-0400
TZNAME:EDT
DTSTART:20220313T070000
END:DAYLIGHT
BEGIN:STANDARD
TZOFFSETFROM:-0400
TZOFFSETTO:-0500
TZNAME:EST
DTSTART:20221106T060000
END:STANDARD
BEGIN:DAYLIGHT
TZOFFSETFROM:-0500
TZOFFSETTO:-0400
TZNAME:EDT
DTSTART:20230312T070000
END:DAYLIGHT
BEGIN:STANDARD
TZOFFSETFROM:-0400
TZOFFSETTO:-0500
TZNAME:EST
DTSTART:20231105T060000
END:STANDARD
END:VTIMEZONE
BEGIN:VEVENT
DTSTART;TZID=America/New_York:20221117T083000
DTEND;TZID=America/New_York:20221117T150000
DTSTAMP:20260425T170303
CREATED:20220926T210042Z
LAST-MODIFIED:20231016T143138Z
UID:2359-1668673800-1668697200@marpg.org
SUMMARY:MARPG Educational Symposium 2022
DESCRIPTION:We are excited to be back in person at a NEW LOCATION for our annual Educational Symposium! Please join MARPG in November for a day of talks and networking. Registration price includes light breakfast and lunch. We will have several speakers and plenty of time for networking. Register now and receive an invoice for payment. \nMeeting Room 115 (From the main lobby (3rd floor)\, take the stairs or the elevator down to the first floor\, head to the left around the corner \nRegister Now\n\n\nMARPG Education Symposium Agenda\, November 17\, 2022\n\n8:30 – 9:00 AM\nBreakfast\n\n9:00 – 9:15 AM\nOpening remarks – Liz Opsitnick\, MARPG Chairperson\n\n9:15 – 10:00 AM\nErich Klein (Kuraray) “Functionalized Liquid Rubber for Tire Formulations”\n\n10:00 – 10:30 AM\nRay Gould (AGC) “Enhanced Performance through Fluoropolymer Compounding”\n\n10:30 – 10:40 AM\nBreak\n\n10:40 – 11:10 AM\nJason Poulton (ARDL) “General Considerations in Failure Analysis of Rubber and Plastics”\n\n11:10 – 11:35 AM\nElevator pitches and Supplier Overviews\n\n11:35 – 11:45 PM\nBreak\n\n11:45 PM – 1:30 PM\nLunch & Networking\n\n1:30 PM – 2:00 PM\nMookkan Periyasamy (Greene Tweed) “3D Printing of Seals and Components from Thermoset Silicones and Thermoplastics and the customized printer used for them”\n\n2:00 – 2:15 PM\nClosing Remarks
URL:https://marpg.org/event/marpg-educational-symposium/
LOCATION:The Inn at Villanova University\, 601 County Line Rd\, Radnor\, 19087
CATEGORIES:Educational Symposium
ORGANIZER;CN="MidAtlantic Rubber & Plastics Group":MAILTO:marpg.org@gmail.com
END:VEVENT
END:VCALENDAR